BEGIN:VCALENDAR
VERSION:2.0
PRODID:-//Stiefacademie Nederland - ECPv6.15.20//NONSGML v1.0//EN
CALSCALE:GREGORIAN
METHOD:PUBLISH
X-WR-CALNAME:Stiefacademie Nederland
X-ORIGINAL-URL:https://stiefacademienederland.nl
X-WR-CALDESC:Evenementen voor Stiefacademie Nederland
REFRESH-INTERVAL;VALUE=DURATION:PT1H
X-Robots-Tag:noindex
X-PUBLISHED-TTL:PT1H
BEGIN:VTIMEZONE
TZID:Europe/Amsterdam
BEGIN:DAYLIGHT
TZOFFSETFROM:+0100
TZOFFSETTO:+0200
TZNAME:CEST
DTSTART:20250330T010000
END:DAYLIGHT
BEGIN:STANDARD
TZOFFSETFROM:+0200
TZOFFSETTO:+0100
TZNAME:CET
DTSTART:20251026T010000
END:STANDARD
BEGIN:DAYLIGHT
TZOFFSETFROM:+0100
TZOFFSETTO:+0200
TZNAME:CEST
DTSTART:20260329T010000
END:DAYLIGHT
BEGIN:STANDARD
TZOFFSETFROM:+0200
TZOFFSETTO:+0100
TZNAME:CET
DTSTART:20261025T010000
END:STANDARD
BEGIN:DAYLIGHT
TZOFFSETFROM:+0100
TZOFFSETTO:+0200
TZNAME:CEST
DTSTART:20270328T010000
END:DAYLIGHT
BEGIN:STANDARD
TZOFFSETFROM:+0200
TZOFFSETTO:+0100
TZNAME:CET
DTSTART:20271031T010000
END:STANDARD
END:VTIMEZONE
BEGIN:VEVENT
DTSTART;TZID=Europe/Amsterdam:20260508T000000
DTEND;TZID=Europe/Amsterdam:20260508T235959
DTSTAMP:20260423T164525
CREATED:20260213T220306Z
LAST-MODIFIED:20260213T221019Z
UID:10002225-1778198400-1778284799@stiefacademienederland.nl
SUMMARY:Kleinschalige vrouwencirkel voor stiefmoeders
DESCRIPTION:Bonusmoeder zijn is bijzonder en soms ook ingewikkeld. Je zorgt\, past je aan … maar waar is de ruimte voor jou zelf? In deze vrouwencirkel nodig ik je uit om even stil te staan bij jou. Tijdens deze kleinschalige en veilige vrouwencirkel komen stiefmoeders samen om te delen\, te luisteren en elkaar te steunen. Zonder oordeel. Zonder “zo hoort het”\, maar met (h)erkenning\, zachtheid en eerlijkheid. \n\n\n\n\n \n\n\n\nDe sfeer bij de vrouwencirkels van Zij-inzicht is ontspannen en down to earth. \n\n\n\nOnderdelen zijn: \n\n\n\n•	Het delen van ervaring rondom het stiefouderschap \n\n\n\n•	(H)erkenning ontvangen \n\n\n\n•	Het trekken van affirmatiekaarten die je ondersteunen en bekrachtigen \n\n\n\n•	Korte meditaties en ademoefeningen\, om diep te ontspannen \n\n\n\n•	Een kopje thee met wat lekkers \n\n\n\nDeze vrouwencirkel is voor jou als je: \n\n\n\n•	Stiefmoeder bent \n\n\n\n•	Behoefte hebt aan contact met vrouwen die echt begrijpen hoe dit is \n\n\n\n•	Jezelf toestemming wilt geven om te voelen\, te delen en op te laden \n\n\n\n•	Spanningen wil verlichten \n\n\n\nWat brengt het je? \n\n\n\n•	Meer rust en zachtheid voor jezelf \n\n\n\n•	Het gevoel dat je niet alleen bent \n\n\n\n•	Een klankbord bij gelijkgestemden \n\n\n\n•	Een moment van diepe ontspanning \n\n\n\n•	Nieuwe inzichten en positieve bekrachtiging \n\n\n\nDeelnemen aan vrouwencirkels helpt bij het verminderen van stress. Ervaringen delen werkt verlichtend en steunend en brengt hernieuwde energie. \n\n\n\n\n\nOver WinnieVanuit haar eigen ervaring als stiefmoeder\, coach en haar kennis van de (systeem)dynamieken in samengestelde gezinnen is Winnie in 2025 prakrijk Zij-inzicht gestart. Haar missie is het begeleiden van stiefmoeders naar meer balans\, rust en ontspanning. Dit doet zij door de verkoop van zelfzorg-producten\, zoals affirmatiekaarten en e-gidsen voor stiefmoeders en door het organiseren van evenementen. Tijdens deze evenementen staat verbinden met gelijkgestemden en het ervaren van diepe ontspanning voorop. \n\n\n\n\n\n\nLocatiePowerhouse Pilates Studio\, Rijnstraat 22\, Geldermalsen\, er is gratis parkeergelegenheid bij de locatie voor de deur \n\n\n\n\n\nAanmeldenDe cirkel gaat door bij minimaal vier aanmeldingen. De cirkel zit vol bij negen aanmeldingen. Opgeven kan via Vrouwencirkel voor stiefmoeders 08-05-2026 | Zij-inzicht 
URL:https://stiefacademienederland.nl/evenement/kleinschalige-vrouwencirkel-voor-stiefmoeders/
LOCATION:Powerhouse Pilates Studio\, Rijnstraat 22\, Geldermalsen
CATEGORIES:Stiefouders
ATTACH;FMTTYPE=image/jpeg:https://stiefacademienederland.nl/wp-content/uploads/2026/02/a-serene-close-up-image-of-a-woman-with-hands-in-a-praying-position-emphasizing-mindfulness-and-calmness.-8933610-scaled.jpg
ORGANIZER;CN="Zij-inzicht":MAILTO:winnie@zij-inzicht.nl
END:VEVENT
END:VCALENDAR